BEGIN:VCALENDAR
VERSION:2.0
PRODID:icalendar-ruby
CALSCALE:GREGORIAN
BEGIN:VEVENT
DTSTAMP:20260425T153908Z
UID:83403287-9d41-45b0-83f5-811d6a1df12d
DTSTART;VALUE=DATE:20191003
DESCRIPTION:Property ID# 461111\, Time: 12:00PM
SUMMARY:Auction for 
END:VEVENT
END:VCALENDAR
