BEGIN:VCALENDAR
VERSION:2.0
PRODID:icalendar-ruby
CALSCALE:GREGORIAN
BEGIN:VEVENT
DTSTAMP:20260425T153519Z
UID:17836841-8adf-42b7-961b-02c9d2b4e029
DTSTART;VALUE=DATE:20210619
DESCRIPTION:Property ID# 510200\, Time: 12:00PM
SUMMARY:Auction for 
END:VEVENT
END:VCALENDAR
